BEGIN:VCALENDAR
VERSION:2.0
PRODID:-//pretix//pretix.campuznight.de//
BEGIN:VTIMEZONE
TZID:Europe/Berlin
BEGIN:STANDARD
DTSTART:20001029T030000
RRULE:FREQ=YEARLY;BYDAY=-1SU;BYMONTH=10
TZNAME:CET
TZOFFSETFROM:+0200
TZOFFSETTO:+0100
END:STANDARD
BEGIN:DAYLIGHT
DTSTART:20000326T020000
RRULE:FREQ=YEARLY;BYDAY=-1SU;BYMONTH=3
TZNAME:CEST
TZOFFSETFROM:+0100
TZOFFSETTO:+0200
END:DAYLIGHT
END:VTIMEZONE
BEGIN:VEVENT
UID:pretix-hawercampus-hc2025-0@tickets.hawercampus.de
DTSTART;TZID=Europe/Berlin:20251008T220000
DTEND;TZID=Europe/Berlin:20251009T040000
DESCRIPTION:Tickets: https://tickets.hawercampus.de/hc2025/\nEinlass: 08.10
 .2025 22:00\nVeranstalter: Hawercampus
DTSTAMP:20260424T153715Z
LOCATION:Hawerkamp Münster
SUMMARY:Hawercampus 2025
END:VEVENT
END:VCALENDAR
